BEGIN:VCALENDAR
VERSION:2.0
PRODID:-//Regnum Christi Chicago - ECPv6.15.20//NONSGML v1.0//EN
CALSCALE:GREGORIAN
METHOD:PUBLISH
X-ORIGINAL-URL:https://rcchicago.com
X-WR-CALDESC:Events for Regnum Christi Chicago
REFRESH-INTERVAL;VALUE=DURATION:PT1H
X-Robots-Tag:noindex
X-PUBLISHED-TTL:PT1H
BEGIN:VTIMEZONE
TZID:America/Chicago
BEGIN:DAYLIGHT
TZOFFSETFROM:-0600
TZOFFSETTO:-0500
TZNAME:CDT
DTSTART:20240310T080000
END:DAYLIGHT
BEGIN:STANDARD
TZOFFSETFROM:-0500
TZOFFSETTO:-0600
TZNAME:CST
DTSTART:20241103T070000
END:STANDARD
BEGIN:DAYLIGHT
TZOFFSETFROM:-0600
TZOFFSETTO:-0500
TZNAME:CDT
DTSTART:20250309T080000
END:DAYLIGHT
BEGIN:STANDARD
TZOFFSETFROM:-0500
TZOFFSETTO:-0600
TZNAME:CST
DTSTART:20251102T070000
END:STANDARD
BEGIN:DAYLIGHT
TZOFFSETFROM:-0600
TZOFFSETTO:-0500
TZNAME:CDT
DTSTART:20260308T080000
END:DAYLIGHT
BEGIN:STANDARD
TZOFFSETFROM:-0500
TZOFFSETTO:-0600
TZNAME:CST
DTSTART:20261101T070000
END:STANDARD
END:VTIMEZONE
BEGIN:VEVENT
DTSTART;TZID=America/Chicago:20250629T170000
DTEND;TZID=America/Chicago:20250702T113000
DTSTAMP:20260424T205159
CREATED:20250328T025325Z
LAST-MODIFIED:20250328T050721Z
UID:4408-1751216400-1751455800@rcchicago.com
SUMMARY:ECYD Boys Summer Camp
DESCRIPTION:ECYD BOYS Camps are unique opportunities for boys to grow in their Catholic faith and make lasting friendships.  They are specifically designed for boys in 5th through 12th grade and are focused on spiritual development as well as leadership skills. We provide boys with a unique experience of “Forging them in Virtue” with fun and adventure! \n\n\n\nAt camp boys ages 10-17 will have the opportunity to participate in a variety of fun and formative activities. They will enjoy prayer and spiritual growth through participation in Mass\, spiritual talks and Confession. Sports\, games\, workshops\, team dynamics\, exciting night activities\, swimming and fun in the sun\, are typical ECYD camp activities. Our camp staff is made up of a wonderful team of teen camp counselors and skilled adult volunteers. Dads are always encouraged to volunteer and participate with their son(s)! \n\n\n\n$365 Regular Camper Fee$350 Early bird registration – up to March 1\, 2025$380 Late registration: May 1st through June 20th.For more information contact:Fr. Chad Everts\, LCceverts@legionaries.org \n\n\n\n\n\n\n\n \n\n\n\n\n\n\n\n\n\n \n\n\n\n   \n\n\n\n\nWatch the ECYD Boys Summer Camp 2024 Video
URL:https://rcchicago.com/event/ecyd-boys-summer-camp/
LOCATION:Sky Lodge Christian Camp\, N4855 Cty Rd Y\, Montello\, WI\, 53949\, United States
ATTACH;FMTTYPE=image/png:https://rcchicago.com/wp-content/uploads/2025/03/Screenshot-2025-03-27-at-9.47.51 PM.png
ORGANIZER;CN="Fr. Chad Everts%2C LC":MAILTO:ceverts@legionaries.org
END:VEVENT
BEGIN:VEVENT
DTSTART;TZID=America/Chicago:20250711T170000
DTEND;TZID=America/Chicago:20250713T130000
DTSTAMP:20260424T205159
CREATED:20250328T042204Z
LAST-MODIFIED:20250529T224141Z
UID:4428-1752253200-1752411600@rcchicago.com
SUMMARY:Catholic Retreat For Women
DESCRIPTION:Come away from the busyness of life for a silent retreat based on the Spiritual Exercises of St. Ignatius of Loyola. The tranquil\, natural surroundings of this 1000+ acre environment allows you to easily let go of the distractions of everyday life. Take a walk on our nature trail around St Mary’s Lake\, enjoy praying at the Grotto\, The outside Stations of the Cross\, The Divine mercy garden\, the St Therese Garden and many other prayer gardens in the campus grounds. You will have the refreshing opportunity to pray\, to learn about yourself\, to deepen your knowledge of the Scriptures and the Catholic faith\, to seek God’s will for your life\, and to experience the tremendous\, personal love that Jesus Christ has for you. \n\n\n\nFAQs \n\n\n\nWhat is the benefit of attending this retreat? \n\n\n\nThis Catholic Retreat for Women will help you to \n\n\n\n\nPersonally encounter Jesus Christ who loves you and longs to speak to your heart.\n\n\n\nDeepen your knowledge of the Scriptures and the Catholic faith.\n\n\n\nSpend time in quiet prayer\, listening to the voice of God as you ponder His will for your life.\n\n\n\n\nWhat is included in the retreat? \n\n\n\n\nDaily Mass\n\n\n\nDirected Meditations by a Legionaries of Christ priest\n\n\n\nSpiritual Guidance\n\n\n\nSacrament of Reconciliation\n\n\n\nPractical Talks\n\n\n\nEucharistic Adoration\n\n\n\n\nWhat is included with my registration fee?The fee includes a spacious room with private bath\, individually controlled heating and air-conditioning\, towels\, linens\, snacks\, meals\, and retreat materials. \n\n\n\nMay I bring my children on this retreat? \n\n\n\nThe silence your head and heart need to fully participate in this retreat won’t be possible if you’re concerned about little ones running around. Please give friends and family the opportunity to deepen their relationship with your children while you enjoy a weekend away. However\, nursing infants are welcome!You must be at least 18 years of age to attend this retreat.For more details contact:Magda Aguirremagdasepulveda@gmail.com \n\n\n\n\nRegister Here
URL:https://rcchicago.com/event/catholic-retreat-for-women/
LOCATION:University of St. Mary of the Lake\, 1000 E Maple Avenue\, Mundelein\, Illinois\, 60060
ATTACH;FMTTYPE=image/png:https://rcchicago.com/wp-content/uploads/2025/03/Screenshot-2025-03-27-at-11.21.15 PM.png
END:VEVENT
END:VCALENDAR