BEGIN:VCALENDAR
VERSION:2.0
PRODID:-//Regnum Christi Chicago - ECPv6.15.20//NONSGML v1.0//EN
CALSCALE:GREGORIAN
METHOD:PUBLISH
X-WR-CALNAME:Regnum Christi Chicago
X-ORIGINAL-URL:https://rcchicago.com
X-WR-CALDESC:Events for Regnum Christi Chicago
REFRESH-INTERVAL;VALUE=DURATION:PT1H
X-Robots-Tag:noindex
X-PUBLISHED-TTL:PT1H
BEGIN:VTIMEZONE
TZID:America/Chicago
BEGIN:DAYLIGHT
TZOFFSETFROM:-0600
TZOFFSETTO:-0500
TZNAME:CDT
DTSTART:20250309T080000
END:DAYLIGHT
BEGIN:STANDARD
TZOFFSETFROM:-0500
TZOFFSETTO:-0600
TZNAME:CST
DTSTART:20251102T070000
END:STANDARD
BEGIN:DAYLIGHT
TZOFFSETFROM:-0600
TZOFFSETTO:-0500
TZNAME:CDT
DTSTART:20260308T080000
END:DAYLIGHT
BEGIN:STANDARD
TZOFFSETFROM:-0500
TZOFFSETTO:-0600
TZNAME:CST
DTSTART:20261101T070000
END:STANDARD
BEGIN:DAYLIGHT
TZOFFSETFROM:-0600
TZOFFSETTO:-0500
TZNAME:CDT
DTSTART:20270314T080000
END:DAYLIGHT
BEGIN:STANDARD
TZOFFSETFROM:-0500
TZOFFSETTO:-0600
TZNAME:CST
DTSTART:20271107T070000
END:STANDARD
END:VTIMEZONE
BEGIN:VEVENT
DTSTART;TZID=America/Chicago:20260327T160000
DTEND;TZID=America/Chicago:20260329T130000
DTSTAMP:20260425T064314
CREATED:20251009T040416Z
LAST-MODIFIED:20260225T041546Z
UID:4915-1774627200-1774789200@rcchicago.com
SUMMARY:Catholic Women's Retreat
DESCRIPTION:A sacred time set apart to encounter Christ deeply and rediscover the beauty of living fully in His love. \n\n\n\nStep away from daily life to enter into silence and journey with Him through guided meditations and personal prayer.  This silent retreat is based on the Spiritual Exercises of St. Ignatius of Loyola. The tranquil\, natural surroundings allows you to easily let go of the distractions of everyday life. Take a walk around the Rosary Garden\, Outdoor Shrines\, Stations of the Cross and peaceful landscaped grounds. \n\n\n\nYou will have the refreshing opportunity to pray\, to learn about yourself\, to deepen your knowledge of the Scriptures and the Catholic faith\, to seek God’s will for your life\, and to experience the tremendous\, personal love that Jesus Christ has for you. \n\n\n\nFAQs \n\n\n\nWhat is the benefit of attending this retreat? \n\n\n\nThis Catholic Retreat for Women will help you to \n\n\n\n\nPersonally encounter Jesus Christ who loves you and longs to speak to your heart.\n\n\n\nDeepen your knowledge of the Scriptures and the Catholic faith.\n\n\n\nSpend time in quiet prayer\, listening to the voice of God as you ponder His will for your life.\n\n\n\n\nWhat is included in the retreat? \n\n\n\n\nDaily Mass\n\n\n\nDirected Meditations by a Legionaries of Christ priest\n\n\n\nSpiritual Guidance\n\n\n\nSacrament of Reconciliation\n\n\n\nPractical Talks\n\n\n\nEucharistic Adoration\n\n\n\nOn-site food service\n\n\n\nDisabled and elevator accessible\n\n\n\nNon-smoking environment\n\n\n\nAmple car and bus parking\n\n\n\n\nWhat is included with my registration fee?The fee includes a spacious room with private bath\, individually controlled heating and air-conditioning\, towels\, linens\, snacks\, meals\, and retreat materials. \n\n\n\nMay I bring my children on this retreat? \n\n\n\nThe silence your head and heart need to fully participate in this retreat won’t be possible if you’re concerned about little ones running around. Please give friends and family the opportunity to deepen their relationship with your children while you enjoy a weekend away. However\, nursing infants are welcome!You must be at least 18 years of age to attend this retreat.For more details contact:Joanne Savagejojosavage@comcast.net
URL:https://rcchicago.com/event/catholic-women-retreat-2/
LOCATION:Marytown Retreat and Conference Center\, Libertyville\, IL\, United States
CATEGORIES:Formation,Retreat,Women
ATTACH;FMTTYPE=image/png:https://rcchicago.com/wp-content/uploads/2025/10/1.png
END:VEVENT
BEGIN:VEVENT
DTSTART;TZID=America/Chicago:20260329T110000
DTEND;TZID=America/Chicago:20260329T130000
DTSTAMP:20260425T064314
CREATED:20260225T033637Z
LAST-MODIFIED:20260225T171515Z
UID:5150-1774782000-1774789200@rcchicago.com
SUMMARY:Family Sundays
DESCRIPTION:Join Regnum Christi families as we celebrate Palm Sunday and begin Holy Week together. \n\n\n\nWe will attend the 11:00 AM Mass at St. James the Apostle in Glen Ellyn\, the Torrens family’s parish. Following Mass\, all families are invited to gather for lunch and fellowship at the Torrens family home\, just five minutes away. \n\n\n\nThis is a beautiful opportunity to pray together\, grow in friendship\, and welcome new families into our community as we enter this sacred week. Please register so we can plan accordingly. \n\n\n\nWe look forward to celebrating with you! \n\n\n\nLocation\n\n\n\nST. JAMES THE APOSTLE CATHOLIC CHURCH\, 60137 \n \n \n \n\n\n\n\nRSVP HERE
URL:https://rcchicago.com/event/family-sundays-2/
LOCATION:St. James the Apostle\, 480 S Park Blvd\, Glen Ellyn\, Illinois\, 60137
ATTACH;FMTTYPE=image/png:https://rcchicago.com/wp-content/uploads/2026/02/Screenshot-2026-02-24-at-9.23.11-PM.png
END:VEVENT
BEGIN:VEVENT
DTSTART;TZID=America/Chicago:20260402T190000
DTEND;TZID=America/Chicago:20260402T234500
DTSTAMP:20260425T064314
CREATED:20260318T033745Z
LAST-MODIFIED:20260331T005355Z
UID:5246-1775156400-1775173500@rcchicago.com
SUMMARY:Holy Thursday - 7 Churches Pilgrimage
DESCRIPTION:Join us for a beautiful Seven Churches Pilgrimage beginning after the Holy Thursday Mass at St. James at Sag Bridge. Together we will travel by bus to visit seven churches\, spending time in quiet prayer and adoration before the Blessed Sacrament at each stop. Along the journey\, we will pray and sing worship songs together\, creating a spirit of reflection and fellowship. The whole family is warmly invited to take part in this meaningful tradition as we accompany Jesus in a prayerful and loving way on the night before Good Friday. \n\n\n\n7:00 pm – Holy Thursday Mass ServiceSt. James at Sag Bridge10600 S. Archer AveLemont\, IL 60439 \n\n\n\n8:45 pm – Pilgrimage Bus departsfrom Everest Academy11550 Bell RoadLemont\, IL 60439 \n\n\n\nCost: $12 per person  \n\n\n\n\n\n\n\n\nClick Here to Get Your Seat!
URL:https://rcchicago.com/event/holy-thursday-7-churches-pilgrimage/
LOCATION:St. James at Sag Bridge Catholic Church\, 10600 S Archer Avenue\, Lemont\, IL 60439\, Lemont\, IL\, 60439\, US
ATTACH;FMTTYPE=image/jpeg:https://rcchicago.com/wp-content/uploads/2026/02/IMG_3541-3-scaled.jpg
END:VEVENT
BEGIN:VEVENT
DTSTART;TZID=America/Chicago:20260403T093000
DTEND;TZID=America/Chicago:20260403T120000
DTSTAMP:20260425T064314
CREATED:20260318T014632Z
LAST-MODIFIED:20260318T014915Z
UID:5191-1775208600-1775217600@rcchicago.com
SUMMARY:Holy Friday Cross Walk
DESCRIPTION:Experience a profound journey of reflection\, prayer\, and participation in the suffering and sacrifice our Lord endured on Good Friday over 2\,000 years ago. Join us as we pray with and for those we encounter\, reminding them of Jesus’ deep love and the salvation He won for us on this very day by giving His life. \n\n\n\n– 9:30 am  to 12:00 pm – Cross Walk departing from Old St. Mary Catholic Church Parking Lot \n\n\n\n– 12:00 pm –  Stations of the Cross followed by Confessions until 2:30 pm @ Old St. Mary Catholic Church.  Parishioners and the elderly will be given priority. Thank you for your understanding. \n\n\n\n– Good Friday Service at 3:00 PM and 7:00PM @ Old St. Mary Catholic Church \n\n\n\nParking Instructions \n\n\n\nPlease park in the back parking lot\, accessible from Wabash Avenue.  \n\n\n\nEnter through 1533 S. Wabash Ave\, Chicago\, IL 60605 into your GPS system. \n\n\n\nPlease try your best to park at the end of the parking lot closest to Wabash Avenue. \n\n\n\n \n \n\n\n\n\nSign up
URL:https://rcchicago.com/event/holy-friday-cross-walk-2/
LOCATION:Old St. Mary Catholic Church\, 1500. S. Michigan Avenue\, Chicago\, Illinois\, 60605
ATTACH;FMTTYPE=image/png:https://rcchicago.com/wp-content/uploads/2026/03/Screenshot-2026-03-05-at-8.08.41-PM-e1772764731557.png
END:VEVENT
BEGIN:VEVENT
DTSTART;TZID=America/Chicago:20260404T093000
DTEND;TZID=America/Chicago:20260404T133000
DTSTAMP:20260425T064314
CREATED:20260318T013614Z
LAST-MODIFIED:20260403T150920Z
UID:5200-1775295000-1775309400@rcchicago.com
SUMMARY:Holy Saturday Pacific Garden Mission
DESCRIPTION:Join us for a morning of service at Pacific Garden Mission\, one of Chicago’s oldest rescue missions dedicated to serving those in need. Volunteers of all ages are welcome to participate as we assist with food service and housekeeping\, helping create a welcoming and caring environment for the guests of the mission. \n\n\n\nChildren and teenagers under the age of 16 are welcome but must be accompanied by an adult chaperone who is over 21. \nPlease come prepared to serve by wearing closed-toe and closed-heel shoes and long pants (no capris or cropped pants). Choose comfortable clothing that you do not mind getting a little dirty as we work together in this hands-on ministry of service. \n\n\n\nPlease register to assist us with planning. \n\n\n\nDonations are appreciated and can be made when you register or at the event. \n\n\n\n\nRegister Here
URL:https://rcchicago.com/event/holy-saturday-pacific-garden-mission/
LOCATION:Pacific Gardens Missions\, 1458 S Canal St\, Chicago\, Illinois\, 60607
CATEGORIES:Family,Men,Women,Youth/ECYD
ATTACH;FMTTYPE=image/jpeg:https://rcchicago.com/wp-content/uploads/2026/03/IMG_4109-3-scaled.jpg
END:VEVENT
BEGIN:VEVENT
DTSTART;TZID=America/Chicago:20260417T173000
DTEND;TZID=America/Chicago:20260419T130000
DTSTAMP:20260425T064314
CREATED:20260326T011417Z
LAST-MODIFIED:20260326T011506Z
UID:5262-1776447000-1776603600@rcchicago.com
SUMMARY:Men's Spiritual Exercises Retreat
DESCRIPTION:A transformative retreat designed for men seeking deeper union with Christ. Join us for a weekend of:   \n\n\n\n\nDaily Mass\n\n\n\nDirected Meditations by Legionaries of Christ Priests\n\n\n\nSpiritual Guidance\n\n\n\nSacrament of Reconciliation\n\n\n\nPractical Talks\n\n\n\nEucharistic Adoration\n\n\n\n\nExperience silence\, guidance\, and fraternity as you renew your faith and discern God’s call in your life. \n\n\n\nThe fee includes accommodations\, towels\, linens\, snacks\, meals\, and retreat materials. \n\n\n\nAll men are invited\, and Regnum Christi members are encouraged to attend! On Friday\, April 17th\, arrival is at 5:30 pm with a Social Gathering and Brief Talk starting promptly at 6:00 pm.  \nCost:  $275 \nSnacks will be served on Friday night\, meals are included on Saturday and on Sunday morning. \nLocation: Sacred Heart Apostolic School                   5901 N. 500 E                    Rolling Prairie\, Indiana 46371 \nContact:  Thomas McMahon – holyfamily61@outlook.com
URL:https://rcchicago.com/event/mens-spiritual-exercises-retreat/
LOCATION:Sacred Heart Apostolic School\, 5901 N. 500 E.\, Rolling Prairie\, \, IN\, 46371\, United States
CATEGORIES:Formation,Men,Retreat
ATTACH;FMTTYPE=image/png:https://rcchicago.com/wp-content/uploads/2026/03/Screenshot-2026-03-25-at-1.05.10-PM.png
END:VEVENT
BEGIN:VEVENT
DTSTART;TZID=America/Chicago:20260608T160000
DTEND;TZID=America/Chicago:20260615T120000
DTSTAMP:20260425T064314
CREATED:20260314T163451Z
LAST-MODIFIED:20260314T175322Z
UID:5207-1780934400-1781524800@rcchicago.com
SUMMARY:ECYD- Challenge Summer Camp
DESCRIPTION:Challenge Camp offers a unique experience for girls in an environment rooted deeply in the Catholic faith. In addition to classic camp fun—games\, canoeing\, horseback riding\, campfires\, and more—girls are invited to grow closer to Christ through daily Mass\, Confession\, Adoration\, and a beautiful Eucharistic procession led by our camp chaplain. We also hope to have a Consecrated woman present to guide talks\, lead prayer\, and accompany the girls as they grow in their relationship with Christ. \n\n\n\nBecause Challenge Camp is exclusively for girls\, it creates a space where friendships can flourish in a positive\, supportive atmosphere—free from the distractions and drama often found at co-ed camps. Each year’s theme invites campers on a “virtue quest\,” helping them discover and practice virtues in meaningful\, practical ways that can shape their lives long after camp ends. \nDates:Arrival Date: June 8\, 2026 4:00 – 5:00 PM Check InEnd Date: June 13\, 2026 – 10:30 Mass (All families invited) Pick up at 11:30Depart by 12:00 \nLocation: \nSky Lodge Christian CampCounty Road YMontello\, WI 55349 \nPlease read the information packet below for details before registering.  \n\n\n\n\n\n\n\n\nInformation Packet\n\n\n\n\n\n\n\n\nContact:  Nichole Moudry (612) 802-5059nichole@moudry.net \n\n\n\n\n\n\n\n\nREGISTRATION
URL:https://rcchicago.com/event/ecyd-challenge-summer-camp/
LOCATION:IL
ATTACH;FMTTYPE=image/png:https://rcchicago.com/wp-content/uploads/2026/03/1.png
END:VEVENT
BEGIN:VEVENT
DTSTART;TZID=America/Chicago:20260628T160000
DTEND;TZID=America/Chicago:20260704T120000
DTSTAMP:20260425T064314
CREATED:20260314T170950Z
LAST-MODIFIED:20260314T174628Z
UID:5219-1782662400-1783166400@rcchicago.com
SUMMARY:ECYD - Boys Summer Camp
DESCRIPTION:Boys Summer Camp offers an unforgettable week where adventure\, friendship\, and faith come together. Set in the beauty of the outdoors\, boys enjoy classic camp activities like sports\, games\, hiking\, and campfires while also growing in their relationship with Christ. \n\n\n\n \n\n\n\nEach day includes opportunities for prayer\, formation\, and the sacraments\, with daily Mass and time for reflection that help boys deepen their faith in a natural and meaningful way. Through team challenges\, sports\, and shared experiences\, campers build strong friendships and learn the values of leadership\, teamwork\, and generosity. \n\n\n\nClick below to enjoy videos from our past camps.  \n\n\n\n\n\n\n\n\nECYD Summer Boys Camp 2024 Video\n\n\n\n\n\n\n\n\n\nECYD Summer Boys Camp 2025 Video\n\n\n\n\n\n\n\n\nGuided by mentors and team leaders who model Christian life\, boys are encouraged to grow in virtue\, confidence\, and responsibility. Boys Summer Camp is more than just a week of fun—it’s a chance to strengthen faith\, form lasting friendships\, and create memories that will stay with them for years to come. \n \n\n\n\n\n\n\n\nPrice:  $355 – Before April 1st$390 – May 1st- June 20th \nPlease download and complete the Permission Form below and send to Fr. Chad Everts at the time of registration. Thank you.  \n\n\n\n\n\n\n\n\nDownload Permission Form Here\n\n\n\n\n\n\n\n\nContact: Fr. Chad Everts – ceverts@legionaries.org \n\n\n\nLocation: \nSky Lodge Christian CampCounty Road YMontello\, WI 55349 \n\n\n\n\n\n\n\n\n\n\nRegistration coming soon
URL:https://rcchicago.com/event/ecyd-boys-summer-camp-2/
LOCATION:IL
ATTACH;FMTTYPE=image/png:https://rcchicago.com/wp-content/uploads/2026/03/2.png
END:VEVENT
BEGIN:VEVENT
DTSTART;TZID=America/Chicago:20260710T170000
DTEND;TZID=America/Chicago:20260712T130000
DTSTAMP:20260425T064314
CREATED:20260415T024811Z
LAST-MODIFIED:20260415T030820Z
UID:5277-1783702800-1783861200@rcchicago.com
SUMMARY:Spiritual Exercises Retreat for Women
DESCRIPTION:This women’s retreat\, rooted in the spirit of the Ignatian Spiritual Exercises\, offers a gentle yet profound opportunity to encounter Christ through silence\, Scripture\, and guided meditations. In the quiet\, you will learn to notice His voice\, respond to His movements in your heart\, and rediscover His love in a deeply personal way. \n\n\n\nTogether\, we will embrace: \n\n\n\n\nSacred silence that makes space for God’s voice\n\n\n\nPrayerful reflection with Scripture using Ignatian meditations\n\n\n\nTime for rest\, journaling\, and personal encounter\n\n\n\nA supportive\, faith-filled community of women\n\n\n\n\nLike a summer garden tended with care\, your soul is invited to slow\, breathe\, and receive. Come as you are—whether weary\, searching\, or simply longing for more—and allow Christ to meet you in the stillness. \n\n\n\nPrice: $375Location:   \n\n\n\nMarytown Retreat and Conference Center 1600 W Park AvenueLibertyville\, IL 60048\, USA \n\n\n\n \nPlease make sure to print and sign the Release below and email it back or send a photo of it to: chicago.regnum.christi@gmail.com \n \n\n\n\nRCA_Waiver July10-12\, 2026Download Waiver\n\n\n\nQuestions?  Don’t hesitate to get in touch with Joanne Savage @ jojosavage@comcast.net \n\n\n\n\n\n\n\n\nREGISTER HERE
URL:https://rcchicago.com/event/spiritual-exercises-retreat-for-women/
LOCATION:IL
CATEGORIES:Formation,Women
ATTACH;FMTTYPE=image/png:https://rcchicago.com/wp-content/uploads/2026/04/6-e1776221269752.png
END:VEVENT
BEGIN:VEVENT
DTSTART;TZID=America/Chicago:20260918T083000
DTEND;TZID=America/Chicago:20260920T130000
DTSTAMP:20260425T064314
CREATED:20260120T020121Z
LAST-MODIFIED:20260421T020752Z
UID:5024-1789720200-1789909200@rcchicago.com
SUMMARY:Catholic Women Retreat - Spiritual Exercises
DESCRIPTION:This Retreat will be in place of our usual Triduum of Renewal Retreat. This retreat continues its tradition of offering a meaningful space for silence\, prayer\, and spiritual renewal.  Deepen your knowledge and love of Jesus Christ and discover the voice of God who longs to speak to your heart\, amid the peaceful and beautiful surroundings of the Marytown Retreat Center and National Shrine of St. Maximilian Kolbe.FAQs \nWhat is the benefit of attending this retreat? \nThis Catholic Retreat for Women will help you to \n\nPersonally encounter Jesus Christ who loves you and longs to speak to your heart.\nDeepen your knowledge of the Scriptures and the Catholic faith.\nSpend time in quiet prayer\, listening to the voice of God as you ponder His will for your life.\n\nWhat is included in the retreat? \n\nDaily Mass\nDirected Meditations by a Legionaries of Christ priest\nSpiritual Guidance\nSacrament of Reconciliation\nPractical Talks\nEucharistic Adoration\n\nWhat is included with my registration fee? \nThe fee includes a spacious room with private bath\, individually controlled heating and air-conditioning\, towels\, linens\, snacks\, meals\, and retreat materials. \nMay I bring my children on this retreat? \nThe silence your head and heart need to fully participate in this retreat won’t be possible if you’re concerned about little ones running around. Please allow friends and family to deepen their relationship with your children while you enjoy a weekend away. However\, nursing infants are welcome! \nYou must be at least 18 years of age to attend this retreat. \nFor more details\, contact: \nJoanne Savagejojosavage@comcast.net \nCost per person:  $400 \n\n\n\n\nRegister Now
URL:https://rcchicago.com/event/catholic-women-retreat-spiritual-exercises/
LOCATION:Marytown Retreat and Conference Center\, Libertyville\, IL\, United States
CATEGORIES:Women
ATTACH;FMTTYPE=image/png:https://rcchicago.com/wp-content/uploads/2026/01/Screenshot-2026-01-19-at-7.29.18-PM-1.png
END:VEVENT
BEGIN:VEVENT
DTSTART;TZID=America/Chicago:20261023T170000
DTEND;TZID=America/Chicago:20261025T130000
DTSTAMP:20260425T064314
CREATED:20260120T191103Z
LAST-MODIFIED:20260126T155317Z
UID:5029-1792774800-1792933200@rcchicago.com
SUMMARY:Retiro de Ejercicios Espirituales para Mujeres Católicas
DESCRIPTION:Aléjate del ritmo acelerado de la vida cotidiana para participar en un retiro en silencio basado en los Ejercicios Espirituales de San Ignacio de Loyola. Profundiza tu conocimiento y amor por Jesucristo y descubre la voz de Dios\, que anhela hablar a tu corazón\, en el entorno tranquilo y hermoso del Centro de Retiros Marytown y Santuario Nacional de San Maximiliano Kolbe. \n\n\n\nPreguntas Frecuentes (FAQs) \n\n\n\n¿Cuál es el beneficio de asistir a este retiro? \n\n\n\nEste Retiro Católico para Mujeres te ayudará a:  \n\n\n\n\nTener un encuentro personal con Jesucristo\, quien te ama y desea hablarle a tu corazón.\n\n\n\nProfundizar tu conocimiento de las Sagradas Escrituras y de la fe católica.\n\n\n\nDedicar tiempo a la oración en silencio\, escuchando la voz de Dios mientras meditas sobre Su voluntad para tu vida.\n\n\n\n\n¿Qué incluye el retiro? \n\n\n\n\nMisa diaria\n\n\n\nMeditaciones dirigidas por un sacerdote de los Legionarios de Cristo\n\n\n\nAcompañamiento espiritual\n\n\n\nSacramento de la Reconciliación\n\n\n\nCharlas prácticas y guiadas\n\n\n\nAdoración Eucarística\n\n\n\n\n¿Hace falta tener experiencia previa? \n\n\n\nLos Ejercicios Espirituales están dirigidos a cualquier persona que desee profundizar en su vida interior y en su relación con Dios\, independientemente de su edad\, estado de vida o nivel de formación espiritual. No es necesario haber hecho Ejercicios antes ni tener conocimientos teológicos. Lo único imprescindible es el deseo sincero de abrir el corazón al Señor.  \n\n\n\n¿Qué incluye la cuota de inscripción? \n\n\n\nLa cuota incluye una habitación amplia con baño privado\, calefacción y aire acondicionado con control individual\, toallas\, ropa de cama\, refrigerios\, comidas y materiales del retiro. \n\n\n\n¿Qué tengo que llevar o preparar antes de asistir? \n\n\n\nLo más importante es venir con disponibilidad interior y deseo de encontrarse con Dios. En cuanto a lo práctico\, se recomienda llevar Biblia\, cuaderno y bolígrafo para las meditaciones\, ropa cómoda y lo necesario para pasar unos días en recogimiento. Pero igual de importante que lo que se lleva\, es lo que se deja: conviene apartarse del móvil\, del ordenador y de todo lo que pueda distraer. El silencio exterior ayuda a lograr el silencio interior\, y renunciar por unos días a lo digital facilita el encuentro profundo con el Señor. \n\n\n\n¿Puedo llevar a mis hijos a este retiro? \n\n\n\nEl silencio que tu mente y tu corazón necesitan para participar plenamente en este retiro no será posible si estás preocupada por niños pequeños. Te invitamos a dar a familiares y amigos la oportunidad de fortalecer su relación con tus hijos mientras tú disfrutas de un fin de semana de retiro. Sin embargo\, ¡los bebés lactantes son bienvenidos! \n\n\n\nDebes tener al menos 18 años para asistir a este retiro. \n\n\n\n\n\nMarytown Retreat and Conference Center1600 W. Park Ave.\, Libertyville\, IL  \n\n\n\n\n\n\n\nPara más información\, contacta a:Adriana Torrensaegtorrens@gmail.com \n\n\n\n\nInscríbete Aquí
URL:https://rcchicago.com/event/retiro-de-ejercicios-espirituales-para-mujeres-catolicas/
LOCATION:Marytown Retreat and Conference Center\, Libertyville\, IL\, United States
CATEGORIES:Formation,Women
ATTACH;FMTTYPE=image/jpeg:https://rcchicago.com/wp-content/uploads/2026/01/574493458_1256650143169267_7410188048519564239_n.jpg
END:VEVENT
END:VCALENDAR