BEGIN:VCALENDAR
VERSION:2.0
PRODID:-//Regnum Christi Chicago - ECPv6.15.20//NONSGML v1.0//EN
CALSCALE:GREGORIAN
METHOD:PUBLISH
X-WR-CALNAME:Regnum Christi Chicago
X-ORIGINAL-URL:https://rcchicago.com
X-WR-CALDESC:Events for Regnum Christi Chicago
REFRESH-INTERVAL;VALUE=DURATION:PT1H
X-Robots-Tag:noindex
X-PUBLISHED-TTL:PT1H
BEGIN:VTIMEZONE
TZID:America/Chicago
BEGIN:DAYLIGHT
TZOFFSETFROM:-0600
TZOFFSETTO:-0500
TZNAME:CDT
DTSTART:20240310T080000
END:DAYLIGHT
BEGIN:STANDARD
TZOFFSETFROM:-0500
TZOFFSETTO:-0600
TZNAME:CST
DTSTART:20241103T070000
END:STANDARD
BEGIN:DAYLIGHT
TZOFFSETFROM:-0600
TZOFFSETTO:-0500
TZNAME:CDT
DTSTART:20250309T080000
END:DAYLIGHT
BEGIN:STANDARD
TZOFFSETFROM:-0500
TZOFFSETTO:-0600
TZNAME:CST
DTSTART:20251102T070000
END:STANDARD
BEGIN:DAYLIGHT
TZOFFSETFROM:-0600
TZOFFSETTO:-0500
TZNAME:CDT
DTSTART:20260308T080000
END:DAYLIGHT
BEGIN:STANDARD
TZOFFSETFROM:-0500
TZOFFSETTO:-0600
TZNAME:CST
DTSTART:20261101T070000
END:STANDARD
BEGIN:DAYLIGHT
TZOFFSETFROM:-0600
TZOFFSETTO:-0500
TZNAME:CDT
DTSTART:20270314T080000
END:DAYLIGHT
BEGIN:STANDARD
TZOFFSETFROM:-0500
TZOFFSETTO:-0600
TZNAME:CST
DTSTART:20271107T070000
END:STANDARD
END:VTIMEZONE
BEGIN:VEVENT
DTSTART;TZID=America/Chicago:20260417T173000
DTEND;TZID=America/Chicago:20260419T130000
DTSTAMP:20260420T145627
CREATED:20260326T011417Z
LAST-MODIFIED:20260326T011506Z
UID:5262-1776447000-1776603600@rcchicago.com
SUMMARY:Men's Spiritual Exercises Retreat
DESCRIPTION:A transformative retreat designed for men seeking deeper union with Christ. Join us for a weekend of:   \n\n\n\n\nDaily Mass\n\n\n\nDirected Meditations by Legionaries of Christ Priests\n\n\n\nSpiritual Guidance\n\n\n\nSacrament of Reconciliation\n\n\n\nPractical Talks\n\n\n\nEucharistic Adoration\n\n\n\n\nExperience silence\, guidance\, and fraternity as you renew your faith and discern God’s call in your life. \n\n\n\nThe fee includes accommodations\, towels\, linens\, snacks\, meals\, and retreat materials. \n\n\n\nAll men are invited\, and Regnum Christi members are encouraged to attend! On Friday\, April 17th\, arrival is at 5:30 pm with a Social Gathering and Brief Talk starting promptly at 6:00 pm.  \nCost:  $275 \nSnacks will be served on Friday night\, meals are included on Saturday and on Sunday morning. \nLocation: Sacred Heart Apostolic School                   5901 N. 500 E                    Rolling Prairie\, Indiana 46371 \nContact:  Thomas McMahon – holyfamily61@outlook.com
URL:https://rcchicago.com/event/mens-spiritual-exercises-retreat/
LOCATION:Sacred Heart Apostolic School\, 5901 N. 500 E.\, Rolling Prairie\, \, IN\, 46371\, United States
CATEGORIES:Formation,Men,Retreat
ATTACH;FMTTYPE=image/png:https://rcchicago.com/wp-content/uploads/2026/03/Screenshot-2026-03-25-at-1.05.10-PM.png
END:VEVENT
BEGIN:VEVENT
DTSTART;TZID=America/Chicago:20260327T160000
DTEND;TZID=America/Chicago:20260329T130000
DTSTAMP:20260420T145627
CREATED:20251009T040416Z
LAST-MODIFIED:20260225T041546Z
UID:4915-1774627200-1774789200@rcchicago.com
SUMMARY:Catholic Women's Retreat
DESCRIPTION:A sacred time set apart to encounter Christ deeply and rediscover the beauty of living fully in His love. \n\n\n\nStep away from daily life to enter into silence and journey with Him through guided meditations and personal prayer.  This silent retreat is based on the Spiritual Exercises of St. Ignatius of Loyola. The tranquil\, natural surroundings allows you to easily let go of the distractions of everyday life. Take a walk around the Rosary Garden\, Outdoor Shrines\, Stations of the Cross and peaceful landscaped grounds. \n\n\n\nYou will have the refreshing opportunity to pray\, to learn about yourself\, to deepen your knowledge of the Scriptures and the Catholic faith\, to seek God’s will for your life\, and to experience the tremendous\, personal love that Jesus Christ has for you. \n\n\n\nFAQs \n\n\n\nWhat is the benefit of attending this retreat? \n\n\n\nThis Catholic Retreat for Women will help you to \n\n\n\n\nPersonally encounter Jesus Christ who loves you and longs to speak to your heart.\n\n\n\nDeepen your knowledge of the Scriptures and the Catholic faith.\n\n\n\nSpend time in quiet prayer\, listening to the voice of God as you ponder His will for your life.\n\n\n\n\nWhat is included in the retreat? \n\n\n\n\nDaily Mass\n\n\n\nDirected Meditations by a Legionaries of Christ priest\n\n\n\nSpiritual Guidance\n\n\n\nSacrament of Reconciliation\n\n\n\nPractical Talks\n\n\n\nEucharistic Adoration\n\n\n\nOn-site food service\n\n\n\nDisabled and elevator accessible\n\n\n\nNon-smoking environment\n\n\n\nAmple car and bus parking\n\n\n\n\nWhat is included with my registration fee?The fee includes a spacious room with private bath\, individually controlled heating and air-conditioning\, towels\, linens\, snacks\, meals\, and retreat materials. \n\n\n\nMay I bring my children on this retreat? \n\n\n\nThe silence your head and heart need to fully participate in this retreat won’t be possible if you’re concerned about little ones running around. Please give friends and family the opportunity to deepen their relationship with your children while you enjoy a weekend away. However\, nursing infants are welcome!You must be at least 18 years of age to attend this retreat.For more details contact:Joanne Savagejojosavage@comcast.net
URL:https://rcchicago.com/event/catholic-women-retreat-2/
LOCATION:Marytown Retreat and Conference Center\, Libertyville\, IL\, United States
CATEGORIES:Formation,Retreat,Women
ATTACH;FMTTYPE=image/png:https://rcchicago.com/wp-content/uploads/2025/10/1.png
END:VEVENT
BEGIN:VEVENT
DTSTART;TZID=America/Chicago:20260320T180000
DTEND;TZID=America/Chicago:20260322T130000
DTSTAMP:20260420T145627
CREATED:20260130T024923Z
LAST-MODIFIED:20260130T030158Z
UID:5053-1774029600-1774184400@rcchicago.com
SUMMARY:Hope Rises! High School Girls Retreat
DESCRIPTION:Fees:  $ 185 Before February 1st           $ 210 February to March 12thRegistration Deadline: March 12 \n\n\n\n \n\n\n\nContact:  Nichole Moudry – nichole@moudry.net
URL:https://rcchicago.com/event/hope-rises-high-school-girls-retreat/
CATEGORIES:Formation,Youth/ECYD
ATTACH;FMTTYPE=image/png:https://rcchicago.com/wp-content/uploads/2026/01/challenge-Social-Media.png
END:VEVENT
BEGIN:VEVENT
DTSTART;TZID=America/Chicago:20260117T080000
DTEND;TZID=America/Chicago:20260119T170000
DTSTAMP:20260420T145627
CREATED:20251206T151041Z
LAST-MODIFIED:20260113T023522Z
UID:4987-1768636800-1768842000@rcchicago.com
SUMMARY:ECYD Boys Ski Retreat 2026
DESCRIPTION:An Amazing Winter Experience!Please view one of our ski videos!  \n\n\n\n \n\n\n\n\n\nECYD Camps are unique experiences for boys to grow in their Catholic faith and make lasting friendships. \n\n\n\nWhen: \n\n\n\nJanuary 17-19\, 2026 \n\n\n\nWhere: \n\n\n\nSky Lodge Christian Camp \n\n\n\nMontello\, WI 53949 \n\n\n\nCost: \n\n\n\n\n$275 regular fee per boy by January 1st\n\n\n\n$260 for each additional sibling\n\n\n\n$260 regular fee per dad by January 1st\n\n\n\nAdditional $20 per boy / dad for late registrations (after January 1st\, before January 8th)\n\n\n\n\nSuggested donation ($20 for example) if you’d like to support a family who may need financial help. \n\n\n\nTo Register: \n\n\n\nSend an email. \n\n\n\nPayments may be done by mailing a check (or eventually online). The registration form may be scanned and emailed to ceverts@legionaries.org.  The original copy is to be sent by mail or brought to camp.  \n\n\n\nJanuary 10th is the registration deadline \n\n\n\n​Any questions\, please contact \n\n\n\nFr. Chad Everts\, LCceverts@legionaries.org773-372-5142 \n\n\n\nDownload flyer: \n\n\n\nFlyer ECYD boys ski retreat January 2026 (Montello\, WI) \n\n\n\nSki camp waiver and sign-up sheet (Jan 2026)
URL:https://rcchicago.com/event/ecyd-boys-ski-retreat-2026/
LOCATION:Sky Lodge Christian Camp\, N4855 Cty Rd Y\, Montello\, WI\, 53949\, United States
CATEGORIES:Family,Formation,Men,Retreat,Youth/ECYD
ATTACH;FMTTYPE=image/jpeg:https://rcchicago.com/wp-content/uploads/2025/12/DSC_0196-1536x864-1.jpg
END:VEVENT
BEGIN:VEVENT
DTSTART;TZID=America/Chicago:20250419T093000
DTEND;TZID=America/Chicago:20250419T133000
DTSTAMP:20260420T145627
CREATED:20250326T192325Z
LAST-MODIFIED:20250403T205840Z
UID:4344-1745055000-1745069400@rcchicago.com
SUMMARY:Pacific Gardens Mission - Chicago
DESCRIPTION:Pacific Garden Mission provides volunteer opportunities for individuals of all ages. Groups of children or teenagers under 16 years old must be accompanied by an adult chaperone who is over 21. Dress code for volunteering: Food service volunteers MUST wear closed-toe and closed-heel shoes\, and long pants (no capris or cropped pants). Wear clothes you are comfortable in and wouldn’t mind getting a little dirty! \nWe will be helping with food service and housekeeping ministry\nOur service will be from 9:30am – 1:30pm.\nCost is Free (please register to assist us with planning) \nDonations are appreciated to help cover costs. \nMonetary donations can be made when you register or at the event. \nFor more information contact: \n\n\n\n\n\n\nRegister Here
URL:https://rcchicago.com/event/pacific-gardens-mission-chicago/
LOCATION:Pacific Gardens Missions\, 1458 S Canal St\, Chicago\, Illinois\, 60607
CATEGORIES:Family,Formation,Youth/ECYD
ATTACH;FMTTYPE=image/png:https://rcchicago.com/wp-content/uploads/2025/03/ecyd-mission-meal.png
ORGANIZER;CN="Adriana Torrens":MAILTO:aegtorrens@gmail.com
END:VEVENT
END:VCALENDAR